BEGIN:VCALENDAR
VERSION:2.0
PRODID:-//wp-events-plugin.com//7.2.3.1//EN
TZID:Europe/Amsterdam
X-WR-TIMEZONE:Europe/Amsterdam
BEGIN:VEVENT
UID:3016@worldglaucomaweek.org
DTSTART;TZID=Europe/Amsterdam:20190327T110000
DTEND;TZID=Europe/Amsterdam:20190327T120000
DTSTAMP:20190327T212340Z
URL:https://www.worldglaucomaweek.org/activity/telemedicine-conference-on-
 glaucoma/
SUMMARY:Telemedicine Conference on Glaucoma
DESCRIPTION:Teleconference on Glaucoma for physicians and related health pe
 rsonnel from all Peruvian Health Ministry hospitals (MINSA).
CATEGORIES:Public educational
LOCATION:Hospital Nacional Arzobispo Loayza\, Avenida Alfonso Ugarte 848\, 
 Lima \, Lima\, Lima\, Peru\, Lima 1\, Peru
GEO:-12.0498135;-77.04300890000002
X-APPLE-STRUCTURED-LOCATION;VALUE=URI;X-ADDRESS=Avenida Alfonso Ugarte 848\
 , Lima \, Lima\, Lima\, Peru\, Lima 1\, Peru;X-APPLE-RADIUS=100;X-TITLE=Ho
 spital Nacional Arzobispo Loayza:geo:-12.0498135,-77.04300890000002
END:VEVENT
BEGIN:VTIMEZONE
TZID:Europe/Amsterdam
X-LIC-LOCATION:Europe/Amsterdam
BEGIN:STANDARD
DTSTART:20181028T020000
TZOFFSETFROM:+0200
TZOFFSETTO:+0100
TZNAME:CET
END:STANDARD
END:VTIMEZONE
END:VCALENDAR