BEGIN:VCALENDAR
VERSION:2.0
PRODID:-//wp-events-plugin.com//7.2.3.1//EN
TZID:Europe/Amsterdam
X-WR-TIMEZONE:Europe/Amsterdam
BEGIN:VEVENT
UID:1877@worldglaucomaweek.org
DTSTART;TZID=Europe/Amsterdam:20180312T000000
DTEND;TZID=Europe/Amsterdam:20180312T000000
DTSTAMP:20180306T135856Z
URL:https://www.worldglaucomaweek.org/activity/tarlac-provincial-hospital-
 glaucoma-screening/
SUMMARY:Tarlac Provincial Hospital Glaucoma Screening
DESCRIPTION:
CATEGORIES:Screening event
LOCATION:Tarlac Provincial Hospital\, Hospital Dr.\, Tarlac City\, Tarlac\,
  Philippines
GEO:15.4772457;120.58734170000002
X-APPLE-STRUCTURED-LOCATION;VALUE=URI;X-ADDRESS=Hospital Dr.\, Tarlac City\
 , Tarlac\, Philippines;X-APPLE-RADIUS=100;X-TITLE=Tarlac Provincial Hospit
 al:geo:15.4772457,120.58734170000002
END:VEVENT
BEGIN:VTIMEZONE
TZID:Europe/Amsterdam
X-LIC-LOCATION:Europe/Amsterdam
BEGIN:STANDARD
DTSTART:20171029T020000
TZOFFSETFROM:+0200
TZOFFSETTO:+0100
TZNAME:CET
END:STANDARD
END:VTIMEZONE
END:VCALENDAR