BEGIN:VCALENDAR
VERSION:2.0
PRODID:-//wp-events-plugin.com//7.2.3.1//EN
TZID:Europe/Amsterdam
X-WR-TIMEZONE:Europe/Amsterdam
BEGIN:VEVENT
UID:1667@worldglaucomaweek.org
DTSTART;TZID=Europe/Amsterdam:20180312T080000
DTEND;TZID=Europe/Amsterdam:20180312T120000
DTSTAMP:20180216T031643Z
URL:https://www.worldglaucomaweek.org/activity/tamizaje-para-familiares-de
 -pacientes-con-glaucoma/
SUMMARY:tamizaje para familiares de pacientes con glaucoma
DESCRIPTION:
CATEGORIES:Screening event
LOCATION:Carriazo\, Clinica Oftalmologica\, calle 86   #  49C-69\, Barranqu
 illa\, Atlantico\, Colombia
GEO:11.0051511;-74.82100969999999
X-APPLE-STRUCTURED-LOCATION;VALUE=URI;X-ADDRESS=calle 86   #  49C-69\, Barr
 anquilla\, Atlantico\, Colombia;X-APPLE-RADIUS=100;X-TITLE=Carriazo\, Clin
 ica Oftalmologica:geo:11.0051511,-74.82100969999999
END:VEVENT
BEGIN:VTIMEZONE
TZID:Europe/Amsterdam
X-LIC-LOCATION:Europe/Amsterdam
BEGIN:STANDARD
DTSTART:20171029T020000
TZOFFSETFROM:+0200
TZOFFSETTO:+0100
TZNAME:CET
END:STANDARD
END:VTIMEZONE
END:VCALENDAR