BEGIN:VCALENDAR
VERSION:2.0
PRODID:-//wp-events-plugin.com//7.2.3.1//EN
TZID:Europe/Amsterdam
X-WR-TIMEZONE:Europe/Amsterdam
BEGIN:VEVENT
UID:1623@worldglaucomaweek.org
DTSTART;TZID=Europe/Amsterdam;VALUE=DATE:20180317
DTEND;TZID=Europe/Amsterdam;VALUE=DATE:20180318
DTSTAMP:20180316T160813Z
URL:https://www.worldglaucomaweek.org/activity/tamizaje-pacientes-mayores-
 de-50-anos-municipio-los-morros/
SUMMARY:Tamizaje pacientes mayores de 50 años
DESCRIPTION:\n\n\nTamizaje pacientes mayores de 50 años\n\nClinica Oftalmo
 lógica del Caribe. Sede CC Viva\n\nCra 51B# 87-50. Piso3. Local 337. Area
  de Salud\n\n\n
ATTACH;FMTTYPE=image/jpeg:https://www.worldglaucomaweek.org/wp-content/upl
 oads/2018/02/Imagen-2-3.png
CATEGORIES:Screening event
LOCATION:Sala Azul. Clinica Oftalmologica del Caribe\, Torre Clinica del Ma
 r\, Barranquilla\, Colombia\, Caribean\, Colombia
GEO:10.9933868;-74.80538289999998
X-APPLE-STRUCTURED-LOCATION;VALUE=URI;X-ADDRESS=Torre Clinica del Mar\, Bar
 ranquilla\, Colombia\, Caribean\, Colombia;X-APPLE-RADIUS=100;X-TITLE=Sala
  Azul. Clinica Oftalmologica del Caribe:geo:10.9933868,-74.80538289999998
END:VEVENT
BEGIN:VTIMEZONE
TZID:Europe/Amsterdam
X-LIC-LOCATION:Europe/Amsterdam
BEGIN:STANDARD
DTSTART:20171029T020000
TZOFFSETFROM:+0200
TZOFFSETTO:+0100
TZNAME:CET
END:STANDARD
END:VTIMEZONE
END:VCALENDAR