BEGIN:VCALENDAR
VERSION:2.0
PRODID:-//wp-events-plugin.com//7.2.3.1//EN
TZID:Europe/Amsterdam
X-WR-TIMEZONE:Europe/Amsterdam
BEGIN:VEVENT
UID:2926@worldglaucomaweek.org
DTSTART;TZID=Europe/Amsterdam;VALUE=DATE:20190316
DTEND;TZID=Europe/Amsterdam;VALUE=DATE:20190317
DTSTAMP:20190314T143532Z
URL:https://www.worldglaucomaweek.org/activity/tamizaje-gratuito-se-realiz
 ara-bajo-inscripcion-por-medio-de-nuestro-contact-center-y-por-una-linea-d
 e-whatsapp/
SUMMARY:Tamizaje Gratuito: se realizará bajo inscripción\, por medio de
  nuestro contact center y por una línea de whatsapp
DESCRIPTION:
CATEGORIES:Screening event
LOCATION:Clinica San Diego\, Cra. 43 #29-35\, MEDELLIN\, Colombia
GEO:6.2290211;-75.5690621
X-APPLE-STRUCTURED-LOCATION;VALUE=URI;X-ADDRESS=Cra. 43 #29-35\, MEDELLIN\,
  Colombia;X-APPLE-RADIUS=100;X-TITLE=Clinica San Diego:geo:6.2290211,-75.5
 690621
END:VEVENT
BEGIN:VTIMEZONE
TZID:Europe/Amsterdam
X-LIC-LOCATION:Europe/Amsterdam
BEGIN:STANDARD
DTSTART:20181028T020000
TZOFFSETFROM:+0200
TZOFFSETTO:+0100
TZNAME:CET
END:STANDARD
END:VTIMEZONE
END:VCALENDAR