BEGIN:VCALENDAR
VERSION:2.0
PRODID:-//wp-events-plugin.com//7.2.3.1//EN
TZID:Europe/Amsterdam
X-WR-TIMEZONE:Europe/Amsterdam
BEGIN:VEVENT
UID:2870@worldglaucomaweek.org
DTSTART;TZID=Europe/Amsterdam:20190312T140000
DTEND;TZID=Europe/Amsterdam:20190312T160000
DTSTAMP:20190311T212004Z
URL:https://www.worldglaucomaweek.org/activity/taller-del-abordaje-clinico
 -de-glaucoma/
SUMMARY:TALLER DEL ABORDAJE CLÍNICO DE GLAUCOMA
DESCRIPTION:The activity is intended to teach medical doctors how to refer 
 any patient with glaucoma suspect to the ophthalmologist in order to get t
 reatment.
ATTACH;FMTTYPE=image/jpeg:https://www.worldglaucomaweek.org/wp-content/upl
 oads/2019/03/PHOTO-2019-03-03-20-26-39.jpg
CATEGORIES:Public educational
LOCATION:CENTRO MEDICO DR. GILBERTO GOMEZ MAZA\, Blvd. Lic Salomon Gonzalez
  Blanco s/n\, Patria Nueva\, TUXTLA GUTIERREZ\, CHIAPAS\, 29000\, CHIAPAS\
 , Mexico
GEO:16.7656124;-93.09557419999999
X-APPLE-STRUCTURED-LOCATION;VALUE=URI;X-ADDRESS=Blvd. Lic Salomon Gonzalez 
 Blanco s/n\, Patria Nueva\, TUXTLA GUTIERREZ\, CHIAPAS\, 29000\, CHIAPAS\,
  Mexico;X-APPLE-RADIUS=100;X-TITLE=CENTRO MEDICO DR. GILBERTO GOMEZ MAZA:g
 eo:16.7656124,-93.09557419999999
END:VEVENT
BEGIN:VTIMEZONE
TZID:Europe/Amsterdam
X-LIC-LOCATION:Europe/Amsterdam
BEGIN:STANDARD
DTSTART:20181028T020000
TZOFFSETFROM:+0200
TZOFFSETTO:+0100
TZNAME:CET
END:STANDARD
END:VTIMEZONE
END:VCALENDAR