BEGIN:VCALENDAR
VERSION:2.0
PRODID:-//wp-events-plugin.com//7.2.3.1//EN
TZID:Europe/Amsterdam
X-WR-TIMEZONE:Europe/Amsterdam
BEGIN:VEVENT
UID:1946@worldglaucomaweek.org
DTSTART;TZID=Europe/Amsterdam:20180311T113000
DTEND;TZID=Europe/Amsterdam:20180311T123000
DTSTAMP:20180308T072146Z
URL:https://www.worldglaucomaweek.org/activity/talk-on-glaucoma-the-sneak-
 thief-of-sight/
SUMMARY:Talk on Glaucoma - the sneak thief of sight
DESCRIPTION:
CATEGORIES:Public educational
LOCATION:The Close North Clubhouse\, The Close North\, Nirvana Country\, Gu
 rugram\, Haryana\, India\, 122018\, India
GEO:28.4144655;77.06903820000002
X-APPLE-STRUCTURED-LOCATION;VALUE=URI;X-ADDRESS=The Close North\, Nirvana C
 ountry\, Gurugram\, Haryana\, India\, 122018\, India;X-APPLE-RADIUS=100;X-
 TITLE=The Close North Clubhouse:geo:28.4144655,77.06903820000002
END:VEVENT
BEGIN:VTIMEZONE
TZID:Europe/Amsterdam
X-LIC-LOCATION:Europe/Amsterdam
BEGIN:STANDARD
DTSTART:20171029T020000
TZOFFSETFROM:+0200
TZOFFSETTO:+0100
TZNAME:CET
END:STANDARD
END:VTIMEZONE
END:VCALENDAR