BEGIN:VCALENDAR
VERSION:2.0
PRODID:-//wp-events-plugin.com//7.2.3.1//EN
TZID:Europe/Amsterdam
X-WR-TIMEZONE:Europe/Amsterdam
BEGIN:VEVENT
UID:2254@worldglaucomaweek.org
DTSTART;TZID=Europe/Amsterdam:20180322T110000
DTEND;TZID=Europe/Amsterdam:20180322T120000
DTSTAMP:20180316T161455Z
URL:https://www.worldglaucomaweek.org/activity/talk-glaucoma-roadia-progra
 m/
SUMMARY:Talk Glaucoma Radio Program
DESCRIPTION:
CATEGORIES:Public educational
LOCATION:i95.5\, 47 Tragarete Road\, Port of Spain\, Trinidad and Tobago
GEO:10.6638295;-61.521238600000004
X-APPLE-STRUCTURED-LOCATION;VALUE=URI;X-ADDRESS=47 Tragarete Road\, Port of
  Spain\, Trinidad and Tobago;X-APPLE-RADIUS=100;X-TITLE=i95.5:geo:10.66382
 95,-61.521238600000004
END:VEVENT
BEGIN:VTIMEZONE
TZID:Europe/Amsterdam
X-LIC-LOCATION:Europe/Amsterdam
BEGIN:STANDARD
DTSTART:20171029T020000
TZOFFSETFROM:+0200
TZOFFSETTO:+0100
TZNAME:CET
END:STANDARD
END:VTIMEZONE
END:VCALENDAR