BEGIN:VCALENDAR
VERSION:2.0
PRODID:-//wp-events-plugin.com//7.2.3.1//EN
TZID:Europe/Amsterdam
X-WR-TIMEZONE:Europe/Amsterdam
BEGIN:VEVENT
UID:2687@worldglaucomaweek.org
DTSTART;TZID=Europe/Amsterdam:20190313T180000
DTEND;TZID=Europe/Amsterdam:20190313T193000
DTSTAMP:20190306T111018Z
URL:https://www.worldglaucomaweek.org/activity/table-ronde-ma-vue-ma-vie-l
 es-maladies-visuelles-un-enjeu-de-sante-publique/
SUMMARY:Table ronde "Ma vue ma vie. Les maladies visuelles : un enjeu de sa
 nté publique"
DESCRIPTION:En partenariat avec le Groupe Progrès\, l’UNADEV (Union Nati
 onale des Aveugles et Déficients Visuels) propose une table ronde où exp
 erts et patients témoigneront sur le glaucome et le handicap visuel. Elle
  se tiendra à Lyon dans les locaux du Progrès. Ouvert à tous et gratui
 t\, inscription obligatoire.\n\nInfos pratiques :\n\n 	Rendez-vous le mer
 credi 13 mars à 18h au siège du Progrès\, 4\, rue Montrochet\, 69002 
 Lyon (salle Marine)\n 	Retransmission live de la table ronde sur la pag
 e Facebook de l’UNADEV\, pour les personnes qui ne peuvent y assister\n
  	Inscription à la table ronde ici\n\nEn présence de :\n\n 	Pr. Philippe
  DENIS\, Ophtalmologiste à l’Hôpital de la Croix-Rousse\, Président d
 e la Société Française du Glaucome\n 	Madame Souhila OMAR\, Chargée d
 e mission égalité à la Ville de Lyon\n 	Et de patients atteints du gla
 ucome qui apporteront leur témoignage\n
CATEGORIES:Other
LOCATION:Siège Journal Le Progrès\, 4\, rue Montrochet\, LYON\, 69002\, F
 rance
GEO:45.7406355;4.815075900000011
X-APPLE-STRUCTURED-LOCATION;VALUE=URI;X-ADDRESS=4\, rue Montrochet\, LYON\,
  69002\, France;X-APPLE-RADIUS=100;X-TITLE=Siège Journal Le Progrès:geo:
 45.7406355,4.815075900000011
END:VEVENT
BEGIN:VTIMEZONE
TZID:Europe/Amsterdam
X-LIC-LOCATION:Europe/Amsterdam
BEGIN:STANDARD
DTSTART:20181028T020000
TZOFFSETFROM:+0200
TZOFFSETTO:+0100
TZNAME:CET
END:STANDARD
END:VTIMEZONE
END:VCALENDAR