BEGIN:VCALENDAR
VERSION:2.0
PRODID:-//wp-events-plugin.com//7.2.3.1//EN
TZID:Europe/Amsterdam
X-WR-TIMEZONE:Europe/Amsterdam
BEGIN:VEVENT
UID:2002@worldglaucomaweek.org
DTSTART;TZID=Europe/Amsterdam:20180311T093000
DTEND;TZID=Europe/Amsterdam:20180311T100000
DTSTAMP:20180309T121701Z
URL:https://www.worldglaucomaweek.org/activity/street-play/
SUMMARY:Street Play
DESCRIPTION:
CATEGORIES:Media coverage
LOCATION:Sukhna Lake\, Sukhna Lake Chandigarh\, Chandiragh\, India
GEO:30.7421379;76.8187557
X-APPLE-STRUCTURED-LOCATION;VALUE=URI;X-ADDRESS=Sukhna Lake Chandigarh\, Ch
 andiragh\, India;X-APPLE-RADIUS=100;X-TITLE=Sukhna Lake:geo:30.7421379,76.
 8187557
END:VEVENT
BEGIN:VTIMEZONE
TZID:Europe/Amsterdam
X-LIC-LOCATION:Europe/Amsterdam
BEGIN:STANDARD
DTSTART:20171029T020000
TZOFFSETFROM:+0200
TZOFFSETTO:+0100
TZNAME:CET
END:STANDARD
END:VTIMEZONE
END:VCALENDAR