BEGIN:VCALENDAR
VERSION:2.0
PRODID:-//wp-events-plugin.com//7.2.3.1//EN
TZID:Europe/Amsterdam
X-WR-TIMEZONE:Europe/Amsterdam
BEGIN:VEVENT
UID:2320@worldglaucomaweek.org
DTSTART;TZID=Europe/Amsterdam;VALUE=DATE:20190310
DTEND;TZID=Europe/Amsterdam;VALUE=DATE:20190312
DTSTAMP:20190201T145016Z
URL:https://www.worldglaucomaweek.org/activity/start-world-glaucoma-week-2
 019-amsterdam/
SUMMARY:Start World Glaucoma Week 2019 Amsterdam
DESCRIPTION:Let's beat invisible glaucoma!
CATEGORIES:Public educational
LOCATION:World Glaucoma Association Executive Office\, Schipluidenlaan 4\, 
 Amsterdam\, Netherlands
GEO:52.3568169;4.840277600000036
X-APPLE-STRUCTURED-LOCATION;VALUE=URI;X-ADDRESS=Schipluidenlaan 4\, Amsterd
 am\, Netherlands;X-APPLE-RADIUS=100;X-TITLE=World Glaucoma Association Exe
 cutive Office:geo:52.3568169,4.840277600000036
END:VEVENT
BEGIN:VTIMEZONE
TZID:Europe/Amsterdam
X-LIC-LOCATION:Europe/Amsterdam
BEGIN:STANDARD
DTSTART:20181028T020000
TZOFFSETFROM:+0200
TZOFFSETTO:+0100
TZNAME:CET
END:STANDARD
END:VTIMEZONE
END:VCALENDAR