BEGIN:VCALENDAR
VERSION:2.0
PRODID:-//wp-events-plugin.com//7.2.3.1//EN
TZID:Europe/Amsterdam
X-WR-TIMEZONE:Europe/Amsterdam
BEGIN:VEVENT
UID:2252@worldglaucomaweek.org
DTSTART;TZID=Europe/Amsterdam:20180314T070000
DTEND;TZID=Europe/Amsterdam:20180314T170000
DTSTAMP:20180316T155910Z
URL:https://www.worldglaucomaweek.org/activity/staff-screening/
SUMMARY:Staff Screening
DESCRIPTION:
CATEGORIES:Screening event
LOCATION:Alexandra Building\, 1 Alexandra Street\, Port of Spain\, West Ind
 ies\, Trinidad and Tobago
GEO:10.6549013;-61.50192559999999
X-APPLE-STRUCTURED-LOCATION;VALUE=URI;X-ADDRESS=1 Alexandra Street\, Port o
 f Spain\, West Indies\, Trinidad and Tobago;X-APPLE-RADIUS=100;X-TITLE=Ale
 xandra Building:geo:10.6549013,-61.50192559999999
END:VEVENT
BEGIN:VTIMEZONE
TZID:Europe/Amsterdam
X-LIC-LOCATION:Europe/Amsterdam
BEGIN:STANDARD
DTSTART:20171029T020000
TZOFFSETFROM:+0200
TZOFFSETTO:+0100
TZNAME:CET
END:STANDARD
END:VTIMEZONE
END:VCALENDAR