BEGIN:VCALENDAR
VERSION:2.0
PRODID:-//wp-events-plugin.com//7.2.3.1//EN
TZID:Europe/Amsterdam
X-WR-TIMEZONE:Europe/Amsterdam
BEGIN:VEVENT
UID:1879@worldglaucomaweek.org
DTSTART;TZID=Europe/Amsterdam:20180312T000000
DTEND;TZID=Europe/Amsterdam:20180312T000000
DTSTAMP:20180306T140352Z
URL:https://www.worldglaucomaweek.org/activity/sta-lucia-eye-center-glauco
 ma-screening/
SUMMARY:Sta. Lucia Eye Center Glaucoma Screening
DESCRIPTION:
CATEGORIES:Screening event
LOCATION:Sta. Lucia Eye Center\, Timbol St\, Concepcion\, Tarlac\, Philippi
 nes
GEO:15.3240371;120.65634699999998
X-APPLE-STRUCTURED-LOCATION;VALUE=URI;X-ADDRESS=Timbol St\, Concepcion\, Ta
 rlac\, Philippines;X-APPLE-RADIUS=100;X-TITLE=Sta. Lucia Eye Center:geo:15
 .3240371,120.65634699999998
END:VEVENT
BEGIN:VTIMEZONE
TZID:Europe/Amsterdam
X-LIC-LOCATION:Europe/Amsterdam
BEGIN:STANDARD
DTSTART:20171029T020000
TZOFFSETFROM:+0200
TZOFFSETTO:+0100
TZNAME:CET
END:STANDARD
END:VTIMEZONE
END:VCALENDAR