BEGIN:VCALENDAR
VERSION:2.0
PRODID:-//wp-events-plugin.com//7.2.3.1//EN
TZID:Europe/Amsterdam
X-WR-TIMEZONE:Europe/Amsterdam
BEGIN:VEVENT
UID:1875@worldglaucomaweek.org
DTSTART;TZID=Europe/Amsterdam:20180307T000000
DTEND;TZID=Europe/Amsterdam:20180307T000000
DTSTAMP:20180306T135630Z
URL:https://www.worldglaucomaweek.org/activity/st-patrick-hospital-glaucom
 a-screening/
SUMMARY:St. Patrick Hospital Glaucoma Screening
DESCRIPTION:
CATEGORIES:Screening event
LOCATION:St. Patrick Hospital\, Lopez Jaena St\, Batangas City\, Batangas\,
  Philippines
GEO:13.7554917;121.0605746
X-APPLE-STRUCTURED-LOCATION;VALUE=URI;X-ADDRESS=Lopez Jaena St\, Batangas C
 ity\, Batangas\, Philippines;X-APPLE-RADIUS=100;X-TITLE=St. Patrick Hospit
 al:geo:13.7554917,121.0605746
END:VEVENT
BEGIN:VTIMEZONE
TZID:Europe/Amsterdam
X-LIC-LOCATION:Europe/Amsterdam
BEGIN:STANDARD
DTSTART:20171029T020000
TZOFFSETFROM:+0200
TZOFFSETTO:+0100
TZNAME:CET
END:STANDARD
END:VTIMEZONE
END:VCALENDAR