BEGIN:VCALENDAR
VERSION:2.0
PRODID:-//wp-events-plugin.com//7.2.3.1//EN
TZID:Europe/Amsterdam
X-WR-TIMEZONE:Europe/Amsterdam
BEGIN:VEVENT
UID:2882@worldglaucomaweek.org
DTSTART;TZID=Europe/Amsterdam:20190312T080000
DTEND;TZID=Europe/Amsterdam:20190312T103000
DTSTAMP:20190312T141258Z
URL:https://www.worldglaucomaweek.org/activity/st-lukes-medical-center-que
 zon-city-lay-forum/
SUMMARY:St. Luke's Medical Center Quezon City Lay Forum
DESCRIPTION:
CATEGORIES:Public educational
LOCATION:st luke's medical center\, e. rodriguez blvd\, E. Rodriguez Blvd.\
 ,\, Quezon City\, Philippines
GEO:14.6221148;121.02541829999996
X-APPLE-STRUCTURED-LOCATION;VALUE=URI;X-ADDRESS=E. Rodriguez Blvd.\,\, Quez
 on City\, Philippines;X-APPLE-RADIUS=100;X-TITLE=st luke's medical center\
 , e. rodriguez blvd:geo:14.6221148,121.02541829999996
END:VEVENT
BEGIN:VTIMEZONE
TZID:Europe/Amsterdam
X-LIC-LOCATION:Europe/Amsterdam
BEGIN:STANDARD
DTSTART:20181028T020000
TZOFFSETFROM:+0200
TZOFFSETTO:+0100
TZNAME:CET
END:STANDARD
END:VTIMEZONE
END:VCALENDAR