BEGIN:VCALENDAR
VERSION:2.0
PRODID:-//wp-events-plugin.com//7.2.3.1//EN
TZID:Europe/Amsterdam
X-WR-TIMEZONE:Europe/Amsterdam
BEGIN:VEVENT
UID:2156@worldglaucomaweek.org
DTSTART;TZID=Europe/Amsterdam:20180311T000000
DTEND;TZID=Europe/Amsterdam:20180317T000000
DTSTAMP:20180314T030442Z
URL:https://www.worldglaucomaweek.org/activity/st-louis-hospital-poster-di
 splay/
SUMMARY:St. Louis Hospital Poster Display
DESCRIPTION:
CATEGORIES:Public educational
LOCATION:St. Louis Hospital\, New Isabela\, Tacurong City\, Sultan Kudarat\
 , Philippines
GEO:6.679599;124.66629510000007
X-APPLE-STRUCTURED-LOCATION;VALUE=URI;X-ADDRESS=New Isabela\, Tacurong City
 \, Sultan Kudarat\, Philippines;X-APPLE-RADIUS=100;X-TITLE=St. Louis Hospi
 tal:geo:6.679599,124.66629510000007
END:VEVENT
BEGIN:VTIMEZONE
TZID:Europe/Amsterdam
X-LIC-LOCATION:Europe/Amsterdam
BEGIN:STANDARD
DTSTART:20171029T020000
TZOFFSETFROM:+0200
TZOFFSETTO:+0100
TZNAME:CET
END:STANDARD
END:VTIMEZONE
END:VCALENDAR