BEGIN:VCALENDAR
VERSION:2.0
PRODID:-//wp-events-plugin.com//7.2.3.1//EN
TZID:Europe/Amsterdam
X-WR-TIMEZONE:Europe/Amsterdam
BEGIN:VEVENT
UID:2996@worldglaucomaweek.org
DTSTART;TZID=Europe/Amsterdam;VALUE=DATE:20190315
DTEND;TZID=Europe/Amsterdam;VALUE=DATE:20190316
DTSTAMP:20190326T193506Z
URL:https://www.worldglaucomaweek.org/activity/sport-day-for-all-ophthalmo
 logists/
SUMMARY:sport day for all ophthalmologists
DESCRIPTION:sport day for all ophthalmologists
ATTACH;FMTTYPE=image/jpeg:https://www.worldglaucomaweek.org/wp-content/upl
 oads/2019/03/54414042_626366374469429_8793966081388576768_n.jpg
CATEGORIES:Media coverage
LOCATION:Sana'a\, Yemen\, Sana'a - Yemen\, Sana'a\, Sana'a\, 00967\, Sana'a
 \, Yemen
GEO:15.3002312;44.19254239999998
X-APPLE-STRUCTURED-LOCATION;VALUE=URI;X-ADDRESS=Sana'a - Yemen\, Sana'a\, S
 ana'a\, 00967\, Sana'a\, Yemen;X-APPLE-RADIUS=100;X-TITLE=Sana'a\, Yemen:g
 eo:15.3002312,44.19254239999998
END:VEVENT
BEGIN:VTIMEZONE
TZID:Europe/Amsterdam
X-LIC-LOCATION:Europe/Amsterdam
BEGIN:STANDARD
DTSTART:20181028T020000
TZOFFSETFROM:+0200
TZOFFSETTO:+0100
TZNAME:CET
END:STANDARD
END:VTIMEZONE
END:VCALENDAR