BEGIN:VCALENDAR
VERSION:2.0
PRODID:-//wp-events-plugin.com//7.2.3.1//EN
TZID:Europe/Amsterdam
X-WR-TIMEZONE:Europe/Amsterdam
BEGIN:VEVENT
UID:2153@worldglaucomaweek.org
DTSTART;TZID=Europe/Amsterdam;VALUE=DATE:20180311
DTEND;TZID=Europe/Amsterdam;VALUE=DATE:20180318
DTSTAMP:20180314T025920Z
URL:https://www.worldglaucomaweek.org/activity/southern-philippines-medica
 l-center-poster-display/
SUMMARY:Southern Philippines Medical Center Poster Display
DESCRIPTION:
CATEGORIES:Public educational
LOCATION:Southern Philippines Medical Center\, Dumanlas Rd\, Davao City\, D
 avao Del Sur\, Philippines
GEO:7.1007624;125.61962310000001
X-APPLE-STRUCTURED-LOCATION;VALUE=URI;X-ADDRESS=Dumanlas Rd\, Davao City\, 
 Davao Del Sur\, Philippines;X-APPLE-RADIUS=100;X-TITLE=Southern Philippine
 s Medical Center:geo:7.1007624,125.61962310000001
END:VEVENT
BEGIN:VTIMEZONE
TZID:Europe/Amsterdam
X-LIC-LOCATION:Europe/Amsterdam
BEGIN:STANDARD
DTSTART:20171029T020000
TZOFFSETFROM:+0200
TZOFFSETTO:+0100
TZNAME:CET
END:STANDARD
END:VTIMEZONE
END:VCALENDAR