BEGIN:VCALENDAR
VERSION:2.0
PRODID:-//wp-events-plugin.com//7.2.3.1//EN
TZID:Europe/Amsterdam
X-WR-TIMEZONE:Europe/Amsterdam
BEGIN:VEVENT
UID:2716@worldglaucomaweek.org
DTSTART;TZID=Europe/Amsterdam:20190310T000000
DTEND;TZID=Europe/Amsterdam:20190316T000000
DTSTAMP:20190307T120308Z
URL:https://www.worldglaucomaweek.org/activity/song-for-glaucoma-week-bein
 g-wise-to-your-eyes/
SUMMARY:Song for Glaucoma Week - Being Wise to your Eyes
DESCRIPTION:This song is dedicated to Glaucoma Australia for World Glaucoma
  Week\, 2019.\n\nIt is performed by Dr Thanh Tung Hoang (Vietnam)\, with t
 he lyrics adapted to the glaucoma theme by A/Prof Graham Lee (Australia).
   The original song is by Richard Marx (Apologies).
CATEGORIES:Awareness
LOCATION:City Eye Centre\, 10/135 Wickham Tce\, Brisbane\, Australia
GEO:-27.4643115;153.02538170000003
X-APPLE-STRUCTURED-LOCATION;VALUE=URI;X-ADDRESS=10/135 Wickham Tce\, Brisba
 ne\, Australia;X-APPLE-RADIUS=100;X-TITLE=City Eye Centre:geo:-27.4643115,
 153.02538170000003
END:VEVENT
BEGIN:VTIMEZONE
TZID:Europe/Amsterdam
X-LIC-LOCATION:Europe/Amsterdam
BEGIN:STANDARD
DTSTART:20181028T020000
TZOFFSETFROM:+0200
TZOFFSETTO:+0100
TZNAME:CET
END:STANDARD
END:VTIMEZONE
END:VCALENDAR