BEGIN:VCALENDAR
VERSION:2.0
PRODID:-//wp-events-plugin.com//7.2.3.1//EN
TZID:Europe/Amsterdam
X-WR-TIMEZONE:Europe/Amsterdam
BEGIN:VEVENT
UID:2772@worldglaucomaweek.org
DTSTART;TZID=Europe/Amsterdam:20190226T190000
DTEND;TZID=Europe/Amsterdam:20190226T221500
DTSTAMP:20190309T123455Z
URL:https://www.worldglaucomaweek.org/activity/sociedad-peruana-de-glaucom
 agrabacion-de-video-promocional-por-la-semana-mundial-del-glaucoma/
SUMMARY:Sociedad Peruana de Glaucoma Grabación de vídeo promocional por l
 a Semana Mundial del Glaucoma
DESCRIPTION:Grabación de vídeo promocional por la Semana Mundial del Glau
 coma\nSociedad Peruana de Glaucoma\nParticipantes:\nDr. Rodolfo Pérez Gro
 ssmann\nDr. Armando Cauti Ramón\nDr. Alberto Dios Aleman\nDra. Adriana Hi
 nostroza López Albújar
ATTACH;FMTTYPE=image/jpeg:https://www.worldglaucomaweek.org/wp-content/upl
 oads/2019/03/IMG-20190301-WA0003.jpg-3.jpg
CATEGORIES:Media coverage
END:VEVENT
BEGIN:VTIMEZONE
TZID:Europe/Amsterdam
X-LIC-LOCATION:Europe/Amsterdam
BEGIN:STANDARD
DTSTART:20181028T020000
TZOFFSETFROM:+0200
TZOFFSETTO:+0100
TZNAME:CET
END:STANDARD
END:VTIMEZONE
END:VCALENDAR