BEGIN:VCALENDAR
VERSION:2.0
PRODID:-//wp-events-plugin.com//7.2.3.1//EN
TZID:Europe/Amsterdam
X-WR-TIMEZONE:Europe/Amsterdam
BEGIN:VEVENT
UID:2020@worldglaucomaweek.org
DTSTART;TZID=Europe/Amsterdam;VALUE=DATE:20180312
DTEND;TZID=Europe/Amsterdam;VALUE=DATE:20180315
DTSTAMP:20180309T170844Z
URL:https://www.worldglaucomaweek.org/activity/sms-message-on-glaucoma/
SUMMARY:SMS message on glaucoma
DESCRIPTION:SMS message on glaucoma will be sent for all cell phone users i
 n Ethiopia through Ethiotelecom\n\nየግላኮማ ምርመራ ያድር
 ጉ：የዓይኖን ብርሃን ይጠብቁ ！
ATTACH;FMTTYPE=image/jpeg:https://www.worldglaucomaweek.org/wp-content/upl
 oads/2018/03/የግላኮማ-ምርመራ-ያድርጉ：2.png
CATEGORIES:Media coverage
LOCATION:Ethiopia\, Ethiopia\, Addis Ababa\, Ethiopia
X-APPLE-STRUCTURED-LOCATION;VALUE=URI;X-ADDRESS=Ethiopia\, Addis Ababa\, Et
 hiopia;X-APPLE-RADIUS=100;X-TITLE=Ethiopia:geo:0,0
END:VEVENT
BEGIN:VTIMEZONE
TZID:Europe/Amsterdam
X-LIC-LOCATION:Europe/Amsterdam
BEGIN:STANDARD
DTSTART:20171029T020000
TZOFFSETFROM:+0200
TZOFFSETTO:+0100
TZNAME:CET
END:STANDARD
END:VTIMEZONE
END:VCALENDAR