BEGIN:VCALENDAR
VERSION:2.0
PRODID:-//wp-events-plugin.com//7.2.3.1//EN
TZID:Europe/Amsterdam
X-WR-TIMEZONE:Europe/Amsterdam
BEGIN:VEVENT
UID:1721@worldglaucomaweek.org
DTSTART;TZID=Europe/Amsterdam:20180312T090000
DTEND;TZID=Europe/Amsterdam:20180316T150000
DTSTAMP:20180223T062026Z
URL:https://www.worldglaucomaweek.org/activity/slmc-global-city-glaucoma-s
 creening/
SUMMARY:SLMC Global City Glaucoma Screening
DESCRIPTION:
CATEGORIES:Screening event
LOCATION:st. luke's medical center global city\, 5th ave cor rizal drive\, 
 taguig\, Philippines
GEO:14.5559527;121.04925350000008
X-APPLE-STRUCTURED-LOCATION;VALUE=URI;X-ADDRESS=5th ave cor rizal drive\, t
 aguig\, Philippines;X-APPLE-RADIUS=100;X-TITLE=st. luke's medical center g
 lobal city:geo:14.5559527,121.04925350000008
END:VEVENT
BEGIN:VTIMEZONE
TZID:Europe/Amsterdam
X-LIC-LOCATION:Europe/Amsterdam
BEGIN:STANDARD
DTSTART:20171029T020000
TZOFFSETFROM:+0200
TZOFFSETTO:+0100
TZNAME:CET
END:STANDARD
END:VTIMEZONE
END:VCALENDAR