BEGIN:VCALENDAR
VERSION:2.0
PRODID:-//wp-events-plugin.com//7.2.3.1//EN
TZID:Europe/Amsterdam
X-WR-TIMEZONE:Europe/Amsterdam
BEGIN:VEVENT
UID:1686@worldglaucomaweek.org
DTSTART;TZID=Europe/Amsterdam:20180312T080000
DTEND;TZID=Europe/Amsterdam:20180312T090000
DTSTAMP:20180217T132329Z
URL:https://www.worldglaucomaweek.org/activity/simultaneous-glaucoma-surge
 ry-on-indigent-patients/
SUMMARY:Simultaneous glaucoma surgery on indigent patients
DESCRIPTION:Simultaneous glaucoma surgery on indigent glaucoma patients in 
 multiple institutions. Surgery to be performed by various members of the P
 hilippine Glaucoma Society. Surgery subsidized by the Philippine Glaucoma 
 Foundation.
CATEGORIES:Other
LOCATION:Multiple Hospitals/Eye Centers\, Ermita\, Metro Manila\, Philippin
 es
GEO:14.6090537;121.02225650000003
X-APPLE-STRUCTURED-LOCATION;VALUE=URI;X-ADDRESS=Ermita\, Metro Manila\, Phi
 lippines;X-APPLE-RADIUS=100;X-TITLE=Multiple Hospitals/Eye Centers:geo:14.
 6090537,121.02225650000003
END:VEVENT
BEGIN:VTIMEZONE
TZID:Europe/Amsterdam
X-LIC-LOCATION:Europe/Amsterdam
BEGIN:STANDARD
DTSTART:20171029T020000
TZOFFSETFROM:+0200
TZOFFSETTO:+0100
TZNAME:CET
END:STANDARD
END:VTIMEZONE
END:VCALENDAR