BEGIN:VCALENDAR
VERSION:2.0
PRODID:-//wp-events-plugin.com//7.2.3.1//EN
TZID:Europe/Amsterdam
X-WR-TIMEZONE:Europe/Amsterdam
BEGIN:VEVENT
UID:4356@worldglaucomaweek.org
DTSTART;TZID=Asia/Kolkata:20210310T140000
DTEND;TZID=Asia/Kolkata:20210310T150000
DTSTAMP:20210319T054410Z
URL:https://www.worldglaucomaweek.org/activity/seminar-on-increasing-aware
 ness-regarding-glaucoma/
SUMMARY:Seminar on Increasing Awareness regarding Glaucoma
DESCRIPTION:On this occasion\, the Ophthalmology department of Midnapore Me
 dical College and Hospital celebrated World Glaucoma Week from 7th March t
 o 13th March of 2021. Apart from clinical detection\, diagnosis\, and trea
 tment of glaucoma in our daily OPD\, an awareness program was arranged in 
 our department.\n\nAll senior and junior residents\, house surgeon\, Senio
 r optometrist and B Opt. students and interns attended this meeting.\n\nPr
 of. Dr. Sanjay Kumar Daulat Thakur and Dr Sanjib Kumar Purkait gave talks 
 regarding the role of optometrists in increasing the glaucoma awareness in
  rural population and diagnosis of glaucoma in rural settings. They also d
 iscussed the basic pathogenesis and the common symptoms of glaucoma. The d
 efinition\, risk factors\, screening of glaucoma were also discussed in br
 ief. As glaucoma awareness is still very poor in this area\, optometrists 
 can play an important role in screening glaucoma patients and referring th
 em to the hospital\, apart from building awareness among the general popul
 ation. \n
CATEGORIES:Awareness
LOCATION:Midnapore\, West Bengal\, India\, Vidyasagar Road\, Midnapore 7211
 01\, Midnapore\, West Bengal\, 721101\, India
GEO:22.421633;87.322684
X-APPLE-STRUCTURED-LOCATION;VALUE=URI;X-ADDRESS=Vidyasagar Road\, Midnapore
  721101\, Midnapore\, West Bengal\, 721101\, India;X-APPLE-RADIUS=100;X-TI
 TLE=Midnapore\, West Bengal\, India:geo:22.421633,87.322684
END:VEVENT
BEGIN:VTIMEZONE
TZID:Asia/Kolkata
X-LIC-LOCATION:Asia/Kolkata
BEGIN:STANDARD
DTSTART:20200310T140000
TZOFFSETFROM:+0530
TZOFFSETTO:+0530
TZNAME:IST
END:STANDARD
END:VTIMEZONE
END:VCALENDAR