BEGIN:VCALENDAR
VERSION:2.0
PRODID:-//wp-events-plugin.com//7.2.3.1//EN
TZID:Europe/Amsterdam
X-WR-TIMEZONE:Europe/Amsterdam
BEGIN:VEVENT
UID:1710@worldglaucomaweek.org
DTSTART;TZID=Europe/Amsterdam:20180209T140000
DTEND;TZID=Europe/Amsterdam:20180215T150000
DTSTAMP:20180221T230355Z
URL:https://www.worldglaucomaweek.org/activity/semana-mundial-del-glaucoma
 -clinica-de-oftalmologia-de-cali-colombia/
SUMMARY:Semana Mundial del Glaucoma- Clínica de Oftalmología de Cali - Co
 lombia
DESCRIPTION:
CATEGORIES:Screening event
LOCATION:Clinica de Oftalmologia de Cali \, en el Auditorio Principal del 4
 o Piso\, Carrera 47 Sur No 8C-94\, \, Cali\, \, Valle del Cauca\, Colombia
GEO:3.4122339;-76.53366160000002
X-APPLE-STRUCTURED-LOCATION;VALUE=URI;X-ADDRESS=Carrera 47 Sur No 8C-94\, \
 , Cali\, \, Valle del Cauca\, Colombia;X-APPLE-RADIUS=100;X-TITLE=Clinica 
 de Oftalmologia de Cali \, en el Auditorio Principal del 4o Piso:geo:3.412
 2339,-76.53366160000002
END:VEVENT
BEGIN:VTIMEZONE
TZID:Europe/Amsterdam
X-LIC-LOCATION:Europe/Amsterdam
BEGIN:STANDARD
DTSTART:20171029T020000
TZOFFSETFROM:+0200
TZOFFSETTO:+0100
TZNAME:CET
END:STANDARD
END:VTIMEZONE
END:VCALENDAR