BEGIN:VCALENDAR
VERSION:2.0
PRODID:-//wp-events-plugin.com//7.2.3.1//EN
TZID:Europe/Amsterdam
X-WR-TIMEZONE:Europe/Amsterdam
BEGIN:VEVENT
UID:2906@worldglaucomaweek.org
DTSTART;TZID=Europe/Amsterdam:20190312T100000
DTEND;TZID=Europe/Amsterdam:20190312T144500
DTSTAMP:20190313T085143Z
URL:https://www.worldglaucomaweek.org/activity/screening-on-public-place-c
 entral-square-of-skope/
SUMMARY:Screening on public place Central Square of Skope
DESCRIPTION:In the center of skopje a free measuring of Iop and advices to 
 the passingers\, over 200 random citizens come to be testet and asked abou
 th nowing flaucoma.Also on 3 TV stations dedicted for health problems an o
 pen program for glaucoma were given
ATTACH;FMTTYPE=image/jpeg:https://www.worldglaucomaweek.org/wp-content/upl
 oads/2019/03/81E366C7-B177-4772-B095-F9330A08DF02.jpeg
CATEGORIES:Media coverage
LOCATION:Sqare central Skopje\, Street Macedonia\, Skopje\, macedonia\, 100
 0\, Skopje\, Macedonia
GEO:41.9945555;21.430762100000038
X-APPLE-STRUCTURED-LOCATION;VALUE=URI;X-ADDRESS=Street Macedonia\, Skopje\,
  macedonia\, 1000\, Skopje\, Macedonia;X-APPLE-RADIUS=100;X-TITLE=Sqare ce
 ntral Skopje:geo:41.9945555,21.430762100000038
END:VEVENT
BEGIN:VTIMEZONE
TZID:Europe/Amsterdam
X-LIC-LOCATION:Europe/Amsterdam
BEGIN:STANDARD
DTSTART:20181028T020000
TZOFFSETFROM:+0200
TZOFFSETTO:+0100
TZNAME:CET
END:STANDARD
END:VTIMEZONE
END:VCALENDAR