BEGIN:VCALENDAR
VERSION:2.0
PRODID:-//wp-events-plugin.com//7.2.3.1//EN
TZID:Europe/Amsterdam
X-WR-TIMEZONE:Europe/Amsterdam
BEGIN:VEVENT
UID:2222@worldglaucomaweek.org
DTSTART;TZID=Europe/Amsterdam;VALUE=DATE:20180312
DTEND;TZID=Europe/Amsterdam;VALUE=DATE:20180315
DTSTAMP:20180315T065912Z
URL:https://www.worldglaucomaweek.org/activity/screening-for-glaucoma/
SUMMARY:screening for glaucoma
DESCRIPTION:we’ve been do screening for 296 pateint over 40yrs of out pat
 eint deparment in 2 days ( 12/3-13/3/2018). My hospital operated 1 worksho
 p for all to update glaucoma’s news! 
CATEGORIES:Media coverage
LOCATION:BR-VT EYE HOSPITAL\, 21 Pham ngoc thach\, Ba Ria city\, VietNam\, 
 Vietnam
GEO:10.5081735;107.17599970000003
X-APPLE-STRUCTURED-LOCATION;VALUE=URI;X-ADDRESS=21 Pham ngoc thach\, Ba Ria
  city\, VietNam\, Vietnam;X-APPLE-RADIUS=100;X-TITLE=BR-VT EYE HOSPITAL:ge
 o:10.5081735,107.17599970000003
END:VEVENT
BEGIN:VTIMEZONE
TZID:Europe/Amsterdam
X-LIC-LOCATION:Europe/Amsterdam
BEGIN:STANDARD
DTSTART:20171029T020000
TZOFFSETFROM:+0200
TZOFFSETTO:+0100
TZNAME:CET
END:STANDARD
END:VTIMEZONE
END:VCALENDAR