BEGIN:VCALENDAR
VERSION:2.0
PRODID:-//wp-events-plugin.com//7.2.3.1//EN
TZID:Europe/Amsterdam
X-WR-TIMEZONE:Europe/Amsterdam
BEGIN:VEVENT
UID:2258@worldglaucomaweek.org
DTSTART;TZID=Europe/Amsterdam:20180311T000000
DTEND;TZID=Europe/Amsterdam:20180311T000000
DTSTAMP:20180316T193511Z
URL:https://www.worldglaucomaweek.org/activity/screening-for-glaucoma-2/
SUMMARY:Screening for Glaucoma
DESCRIPTION:
ATTACH;FMTTYPE=image/jpeg:https://www.worldglaucomaweek.org/wp-content/upl
 oads/2018/03/41907C40-8827-4DA3-8270-C0229930F7E8.jpeg
CATEGORIES:Screening event
LOCATION:Muscat \, Oman\, Al-Nahdha Hospital\, Ruwi\, Muscat\, 113\, Oman
GEO:23.589448762801982;58.53535636616198
X-APPLE-STRUCTURED-LOCATION;VALUE=URI;X-ADDRESS=Al-Nahdha Hospital\, Ruwi\,
  Muscat\, 113\, Oman;X-APPLE-RADIUS=100;X-TITLE=Muscat \, Oman:geo:23.5894
 48762801982,58.53535636616198
END:VEVENT
BEGIN:VTIMEZONE
TZID:Europe/Amsterdam
X-LIC-LOCATION:Europe/Amsterdam
BEGIN:STANDARD
DTSTART:20171029T020000
TZOFFSETFROM:+0200
TZOFFSETTO:+0100
TZNAME:CET
END:STANDARD
END:VTIMEZONE
END:VCALENDAR