BEGIN:VCALENDAR
VERSION:2.0
PRODID:-//wp-events-plugin.com//7.2.3.1//EN
TZID:Europe/Amsterdam
X-WR-TIMEZONE:Europe/Amsterdam
BEGIN:VEVENT
UID:1561@worldglaucomaweek.org
DTSTART;TZID=Europe/Amsterdam:20180214T090000
DTEND;TZID=Europe/Amsterdam:20180214T133000
DTSTAMP:20180201T112048Z
URL:https://www.worldglaucomaweek.org/activity/screening-events/
SUMMARY:Screening events
DESCRIPTION:
CATEGORIES:Screening event
LOCATION:Gradska straža\, Narodni trg 1\, Zadar\, 23000\, Croatia
GEO:44.11439439999999;15.227776100000028
X-APPLE-STRUCTURED-LOCATION;VALUE=URI;X-ADDRESS=Narodni trg 1\, Zadar\, 230
 00\, Croatia;X-APPLE-RADIUS=100;X-TITLE=Gradska straža:geo:44.11439439999
 999,15.227776100000028
END:VEVENT
BEGIN:VTIMEZONE
TZID:Europe/Amsterdam
X-LIC-LOCATION:Europe/Amsterdam
BEGIN:STANDARD
DTSTART:20171029T020000
TZOFFSETFROM:+0200
TZOFFSETTO:+0100
TZNAME:CET
END:STANDARD
END:VTIMEZONE
END:VCALENDAR