BEGIN:VCALENDAR
VERSION:2.0
PRODID:-//wp-events-plugin.com//7.2.3.1//EN
TZID:Europe/Amsterdam
X-WR-TIMEZONE:Europe/Amsterdam
BEGIN:VEVENT
UID:2279@worldglaucomaweek.org
DTSTART;TZID=Europe/Amsterdam;VALUE=DATE:20180311
DTEND;TZID=Europe/Amsterdam;VALUE=DATE:20180318
DTSTAMP:20180319T054929Z
URL:https://www.worldglaucomaweek.org/activity/screening-events-and-glauco
 ma-talk-2/
SUMMARY:Screening events and Glaucoma Talk
DESCRIPTION:Screening event and Glaucoma Talk in dr. M. Djamil General Hosp
 ital\, West Sumatra\, Indonesia\n\n
ATTACH;FMTTYPE=image/jpeg:https://www.worldglaucomaweek.org/wp-content/upl
 oads/2018/03/world-glaucoma-week-2.jpg
CATEGORIES:Screening event
LOCATION:RSUP dr. M. Djamil\, Jalan Perintis Kemerdekaan\, Padang\, west su
 matra\, 25128\, Padang timur\, Indonesia
GEO:-0.9401467;100.36614729999997
X-APPLE-STRUCTURED-LOCATION;VALUE=URI;X-ADDRESS=Jalan Perintis Kemerdekaan\
 , Padang\, west sumatra\, 25128\, Padang timur\, Indonesia;X-APPLE-RADIUS=
 100;X-TITLE=RSUP dr. M. Djamil:geo:-0.9401467,100.36614729999997
END:VEVENT
BEGIN:VTIMEZONE
TZID:Europe/Amsterdam
X-LIC-LOCATION:Europe/Amsterdam
BEGIN:STANDARD
DTSTART:20171029T020000
TZOFFSETFROM:+0200
TZOFFSETTO:+0100
TZNAME:CET
END:STANDARD
END:VTIMEZONE
END:VCALENDAR