BEGIN:VCALENDAR
VERSION:2.0
PRODID:-//wp-events-plugin.com//7.2.3.1//EN
TZID:Europe/Amsterdam
X-WR-TIMEZONE:Europe/Amsterdam
BEGIN:VEVENT
UID:2361@worldglaucomaweek.org
DTSTART;TZID=Europe/Amsterdam:20190311T160000
DTEND;TZID=Europe/Amsterdam:20190314T190000
DTSTAMP:20190219T140408Z
URL:https://www.worldglaucomaweek.org/activity/screening-event-iop/
SUMMARY:Screening Event (IOP)
DESCRIPTION:Control of intraocular pressure to relatives of patients who at
 tend the consultation.
CATEGORIES:Screening event
LOCATION:Clínica Gómez Romeo\, Tucumán 334\, Godoy Cruz - Mendoza\, Arge
 ntina\, 5501\, Argentina
GEO:-32.9078289;-68.848141
X-APPLE-STRUCTURED-LOCATION;VALUE=URI;X-ADDRESS=Tucumán 334\, Godoy Cruz -
  Mendoza\, Argentina\, 5501\, Argentina;X-APPLE-RADIUS=100;X-TITLE=Clínic
 a Gómez Romeo:geo:-32.9078289,-68.848141
END:VEVENT
BEGIN:VTIMEZONE
TZID:Europe/Amsterdam
X-LIC-LOCATION:Europe/Amsterdam
BEGIN:STANDARD
DTSTART:20181028T020000
TZOFFSETFROM:+0200
TZOFFSETTO:+0100
TZNAME:CET
END:STANDARD
END:VTIMEZONE
END:VCALENDAR