BEGIN:VCALENDAR
VERSION:2.0
PRODID:-//wp-events-plugin.com//7.2.3.1//EN
TZID:Europe/Amsterdam
X-WR-TIMEZONE:Europe/Amsterdam
BEGIN:VEVENT
UID:2360@worldglaucomaweek.org
DTSTART;TZID=Europe/Amsterdam:20190315T090000
DTEND;TZID=Europe/Amsterdam:20190315T090000
DTSTAMP:20190219T135638Z
URL:https://www.worldglaucomaweek.org/activity/screening-event-iop-optic-n
 erve/
SUMMARY:Screening Event (IOP/Optic Nerve)
DESCRIPTION:Free event. Control of intraocular pressure and optic nerve.\nP
 hysical location: Municipalidad de la provincia de Mendoza\, 9 de Julio 50
 0\, planta baja.\nSponsored by CAO (Consejo Argentino de Oftalmología) an
 d AMO (Asociación Mendocina de Oftalmología).
CATEGORIES:Screening event
LOCATION:Clinica Gomez Romeo\, Tucuman 334\, Godoy Cruz\, Argentina\, 5501\
 , Mendoza\, Argentina
GEO:-32.9077628;-68.84839640000001
X-APPLE-STRUCTURED-LOCATION;VALUE=URI;X-ADDRESS=Tucuman 334\, Godoy Cruz\, 
 Argentina\, 5501\, Mendoza\, Argentina;X-APPLE-RADIUS=100;X-TITLE=Clinica 
 Gomez Romeo:geo:-32.9077628,-68.84839640000001
END:VEVENT
BEGIN:VTIMEZONE
TZID:Europe/Amsterdam
X-LIC-LOCATION:Europe/Amsterdam
BEGIN:STANDARD
DTSTART:20181028T020000
TZOFFSETFROM:+0200
TZOFFSETTO:+0100
TZNAME:CET
END:STANDARD
END:VTIMEZONE
END:VCALENDAR