BEGIN:VCALENDAR
VERSION:2.0
PRODID:-//wp-events-plugin.com//7.2.3.1//EN
TZID:Europe/Amsterdam
X-WR-TIMEZONE:Europe/Amsterdam
BEGIN:VEVENT
UID:2307@worldglaucomaweek.org
DTSTART;TZID=Europe/Amsterdam:20180331T083000
DTEND;TZID=Europe/Amsterdam:20180331T120000
DTSTAMP:20180324T125053Z
URL:https://www.worldglaucomaweek.org/activity/screening-event-and-public-
 talik/
SUMMARY:Screening event and public talik
DESCRIPTION:\n 	
CATEGORIES:Screening event
LOCATION:Kuala Lumpur Health Clinic\, Jalan Fletcher\, Kuala Lumpur \, Mala
 ysia
GEO:3.1724827;101.7084615
X-APPLE-STRUCTURED-LOCATION;VALUE=URI;X-ADDRESS=Jalan Fletcher\, Kuala Lump
 ur \, Malaysia;X-APPLE-RADIUS=100;X-TITLE=Kuala Lumpur Health Clinic:geo:3
 .1724827,101.7084615
END:VEVENT
BEGIN:VTIMEZONE
TZID:Europe/Amsterdam
X-LIC-LOCATION:Europe/Amsterdam
BEGIN:DAYLIGHT
DTSTART:20180325T030000
TZOFFSETFROM:+0100
TZOFFSETTO:+0200
TZNAME:CEST
END:DAYLIGHT
END:VTIMEZONE
END:VCALENDAR