BEGIN:VCALENDAR
VERSION:2.0
PRODID:-//wp-events-plugin.com//7.2.3.1//EN
TZID:Europe/Amsterdam
X-WR-TIMEZONE:Europe/Amsterdam
BEGIN:VEVENT
UID:2368@worldglaucomaweek.org
DTSTART;TZID=Europe/Amsterdam:20190316T080000
DTEND;TZID=Europe/Amsterdam:20190316T120000
DTSTAMP:20190313T011819Z
URL:https://www.worldglaucomaweek.org/activity/screening-event-a-preventiv
 e-look-focus-on-glaucoma/
SUMMARY:Screening Event: "A Preventive Look – Focus on Glaucoma"
DESCRIPTION:Belo Horizonte will receive on March 16 the second edition of t
 he project "A Preventive Look"\, promoted by the Núcleo de Oftalmologia E
 specializada. Focusing on glaucoma the event will bring together about 2\,
 000 people of all ages in the Liberty Square (Praça da Liberdade) to take
  care of health and have fun. Intraocular pressure (IOP)\, fundus photogra
 phs\, and blood glucose tests\, as well as blood pressure and Body Mass In
 dex (BMI) measurements. Various play activities are planned for children. 
 People will have the opportunity to ask questions with glaucoma specialist
 s and of course\, to practice physical activities – stretching and walki
 ng exercises around the square.
ATTACH;FMTTYPE=image/jpeg:https://www.worldglaucomaweek.org/wp-content/upl
 oads/2019/02/36945f3a-e78f-48f0-bbd5-a96a983d7ec6.jpg
CATEGORIES:Screening event
LOCATION:Liberty Square\, Praça da Liberdade s/n\, Belo Horizonte\, Minas 
 Gerais\, 30140-010\, Funcionários\, Brazil
GEO:-19.9328452;-43.9385772
X-APPLE-STRUCTURED-LOCATION;VALUE=URI;X-ADDRESS=Praça da Liberdade s/n\, B
 elo Horizonte\, Minas Gerais\, 30140-010\, Funcionários\, Brazil;X-APPLE-
 RADIUS=100;X-TITLE=Liberty Square:geo:-19.9328452,-43.9385772
END:VEVENT
BEGIN:VTIMEZONE
TZID:Europe/Amsterdam
X-LIC-LOCATION:Europe/Amsterdam
BEGIN:STANDARD
DTSTART:20181028T020000
TZOFFSETFROM:+0200
TZOFFSETTO:+0100
TZNAME:CET
END:STANDARD
END:VTIMEZONE
END:VCALENDAR