BEGIN:VCALENDAR
VERSION:2.0
PRODID:-//wp-events-plugin.com//7.2.3.1//EN
TZID:Europe/Amsterdam
X-WR-TIMEZONE:Europe/Amsterdam
BEGIN:VEVENT
UID:2348@worldglaucomaweek.org
DTSTART;TZID=Europe/Amsterdam:20190311T090000
DTEND;TZID=Europe/Amsterdam:20190315T160000
DTSTAMP:20190215T095738Z
URL:https://www.worldglaucomaweek.org/activity/screening-event-99/
SUMMARY:screening event
DESCRIPTION:
CATEGORIES:Screening event
LOCATION:Medical centre hospital of the president s affairs administration 
 of the Republic of Kazakhstan\, Mangilik eli 80\, Astana \, Kazakhstan \, 
 Kazakhstan
GEO:51.0954832;71.42034949999993
X-APPLE-STRUCTURED-LOCATION;VALUE=URI;X-ADDRESS=Mangilik eli 80\, Astana \,
  Kazakhstan \, Kazakhstan;X-APPLE-RADIUS=100;X-TITLE=Medical centre hospit
 al of the president s affairs administration of the Republic of Kazakhstan
 :geo:51.0954832,71.42034949999993
END:VEVENT
BEGIN:VTIMEZONE
TZID:Europe/Amsterdam
X-LIC-LOCATION:Europe/Amsterdam
BEGIN:STANDARD
DTSTART:20181028T020000
TZOFFSETFROM:+0200
TZOFFSETTO:+0100
TZNAME:CET
END:STANDARD
END:VTIMEZONE
END:VCALENDAR