BEGIN:VCALENDAR
VERSION:2.0
PRODID:-//wp-events-plugin.com//7.2.3.1//EN
TZID:Europe/Amsterdam
X-WR-TIMEZONE:Europe/Amsterdam
BEGIN:VEVENT
UID:2274@worldglaucomaweek.org
DTSTART;TZID=Europe/Amsterdam:20180312T090000
DTEND;TZID=Europe/Amsterdam:20180323T110000
DTSTAMP:20180318T100947Z
URL:https://www.worldglaucomaweek.org/activity/screening-event-95/
SUMMARY:Screening Event
DESCRIPTION:We perform this Screening programs during World Glaucoma Week e
 very year and usually it becomes a one month screening.
CATEGORIES:Media coverage
LOCATION:Department of Ophthalmology and Visual Sciences\, Medical Universi
 ty of Varna\, Specialized Eye Hospital-Varna\, Doyran 15\, Varna\, Bulgari
 a\, 9002\, Bulgaria
GEO:43.2166848;27.913743100000033
X-APPLE-STRUCTURED-LOCATION;VALUE=URI;X-ADDRESS=Doyran 15\, Varna\, Bulgari
 a\, 9002\, Bulgaria;X-APPLE-RADIUS=100;X-TITLE=Department of Ophthalmology
  and Visual Sciences\, Medical University of Varna\, Specialized Eye Hospi
 tal-Varna:geo:43.2166848,27.913743100000033
END:VEVENT
BEGIN:VTIMEZONE
TZID:Europe/Amsterdam
X-LIC-LOCATION:Europe/Amsterdam
BEGIN:STANDARD
DTSTART:20171029T020000
TZOFFSETFROM:+0200
TZOFFSETTO:+0100
TZNAME:CET
END:STANDARD
END:VTIMEZONE
END:VCALENDAR