BEGIN:VCALENDAR
VERSION:2.0
PRODID:-//wp-events-plugin.com//7.2.3.1//EN
TZID:Europe/Amsterdam
X-WR-TIMEZONE:Europe/Amsterdam
BEGIN:VEVENT
UID:2141@worldglaucomaweek.org
DTSTART;TZID=Europe/Amsterdam:20180316T113000
DTEND;TZID=Europe/Amsterdam:20180316T130000
DTSTAMP:20180313T182838Z
URL:https://www.worldglaucomaweek.org/activity/screening-event-88/
SUMMARY:Screening Event
DESCRIPTION:&nbsp\;\n\nAbilene Premier Eye Care is having a Free Glaucoma S
 creening on Friday March 16\, 2018 from 11:30 am to 1:00 pm.\nCome get you
 r screening done with us. We will be giving out information pamphlets and 
 cupcakes. For more information call 325-701-9885
CATEGORIES:Screening event
LOCATION:Abilene Premier Eye Care\, 1750 PINE ST\, Abilene\, TX\, 79601\, U
 nited States
GEO:32.4696472;-99.73206370000003
X-APPLE-STRUCTURED-LOCATION;VALUE=URI;X-ADDRESS=1750 PINE ST\, Abilene\, TX
 \, 79601\, United States;X-APPLE-RADIUS=100;X-TITLE=Abilene Premier Eye Ca
 re:geo:32.4696472,-99.73206370000003
END:VEVENT
BEGIN:VTIMEZONE
TZID:Europe/Amsterdam
X-LIC-LOCATION:Europe/Amsterdam
BEGIN:STANDARD
DTSTART:20171029T020000
TZOFFSETFROM:+0200
TZOFFSETTO:+0100
TZNAME:CET
END:STANDARD
END:VTIMEZONE
END:VCALENDAR