BEGIN:VCALENDAR
VERSION:2.0
PRODID:-//wp-events-plugin.com//7.2.3.1//EN
TZID:Europe/Amsterdam
X-WR-TIMEZONE:Europe/Amsterdam
BEGIN:VEVENT
UID:2107@worldglaucomaweek.org
DTSTART;TZID=Europe/Amsterdam:20180305T000000
DTEND;TZID=Europe/Amsterdam:20180311T000000
DTSTAMP:20180312T162824Z
URL:https://www.worldglaucomaweek.org/activity/screening-event-84/
SUMMARY:Screening Event
DESCRIPTION:
CATEGORIES:Media coverage
LOCATION:City Policlinic 52\, Medynskaya  street\, 7/1\, Moscow \, Russia \
 , Russia
GEO:55.5845768;37.64909480000006
X-APPLE-STRUCTURED-LOCATION;VALUE=URI;X-ADDRESS=Medynskaya  street\, 7/1\, 
 Moscow \, Russia \, Russia;X-APPLE-RADIUS=100;X-TITLE=City Policlinic 52:g
 eo:55.5845768,37.64909480000006
END:VEVENT
BEGIN:VTIMEZONE
TZID:Europe/Amsterdam
X-LIC-LOCATION:Europe/Amsterdam
BEGIN:STANDARD
DTSTART:20171029T020000
TZOFFSETFROM:+0200
TZOFFSETTO:+0100
TZNAME:CET
END:STANDARD
END:VTIMEZONE
END:VCALENDAR