BEGIN:VCALENDAR
VERSION:2.0
PRODID:-//wp-events-plugin.com//7.2.3.1//EN
TZID:Europe/Amsterdam
X-WR-TIMEZONE:Europe/Amsterdam
BEGIN:VEVENT
UID:2036@worldglaucomaweek.org
DTSTART;TZID=Europe/Amsterdam:20180317T080000
DTEND;TZID=Europe/Amsterdam:20180317T123000
DTSTAMP:20180310T020458Z
URL:https://www.worldglaucomaweek.org/activity/screening-event-79/
SUMMARY:Screening Event
DESCRIPTION:
CATEGORIES:Screening event
LOCATION:Clinica de Ojos Norte\, Av japon 3090\, Santa Cruz\, Santa Cruz\, 
 00000\, Bolivia
GEO:-17.758887975378315;-63.169501489440904
X-APPLE-STRUCTURED-LOCATION;VALUE=URI;X-ADDRESS=Av japon 3090\, Santa Cruz\
 , Santa Cruz\, 00000\, Bolivia;X-APPLE-RADIUS=100;X-TITLE=Clinica de Ojos 
 Norte:geo:-17.758887975378315,-63.169501489440904
END:VEVENT
BEGIN:VTIMEZONE
TZID:Europe/Amsterdam
X-LIC-LOCATION:Europe/Amsterdam
BEGIN:STANDARD
DTSTART:20171029T020000
TZOFFSETFROM:+0200
TZOFFSETTO:+0100
TZNAME:CET
END:STANDARD
END:VTIMEZONE
END:VCALENDAR