BEGIN:VCALENDAR
VERSION:2.0
PRODID:-//wp-events-plugin.com//7.2.3.1//EN
TZID:Europe/Amsterdam
X-WR-TIMEZONE:Europe/Amsterdam
BEGIN:VEVENT
UID:1966@worldglaucomaweek.org
DTSTART;TZID=Europe/Amsterdam:20180314T160000
DTEND;TZID=Europe/Amsterdam:20180314T193000
DTSTAMP:20180309T122112Z
URL:https://www.worldglaucomaweek.org/activity/screening-event-76/
SUMMARY:Screening Event
DESCRIPTION:Organized by Centro oculistico "San Lorenzo" (Chairman: Dr. A. 
 Pioppo) Palermo e Società Italiana del Glaucoma
CATEGORIES:Screening event
LOCATION:Centro oculistico "San Lorenzo"\, Via Giovan Battista Vaccarini 1\
 , Palermo\, 90143\, Italy
GEO:38.1408762;13.348687799999993
X-APPLE-STRUCTURED-LOCATION;VALUE=URI;X-ADDRESS=Via Giovan Battista Vaccari
 ni 1\, Palermo\, 90143\, Italy;X-APPLE-RADIUS=100;X-TITLE=Centro oculistic
 o \"San Lorenzo\":geo:38.1408762,13.348687799999993
END:VEVENT
BEGIN:VTIMEZONE
TZID:Europe/Amsterdam
X-LIC-LOCATION:Europe/Amsterdam
BEGIN:STANDARD
DTSTART:20171029T020000
TZOFFSETFROM:+0200
TZOFFSETTO:+0100
TZNAME:CET
END:STANDARD
END:VTIMEZONE
END:VCALENDAR