BEGIN:VCALENDAR
VERSION:2.0
PRODID:-//wp-events-plugin.com//7.2.3.1//EN
TZID:Europe/Amsterdam
X-WR-TIMEZONE:Europe/Amsterdam
BEGIN:VEVENT
UID:1959@worldglaucomaweek.org
DTSTART;TZID=Europe/Amsterdam:20180316T090000
DTEND;TZID=Europe/Amsterdam:20180316T190000
DTSTAMP:20180309T124219Z
URL:https://www.worldglaucomaweek.org/activity/screening-event-69/
SUMMARY:Screening Event
DESCRIPTION:Organized by UOC Oculistica (Chairman: Dr. A. Mocellin)\, Osped
 ale Vito Fazzi Lecce e Società Italiana del Glaucoma
CATEGORIES:Screening event
LOCATION:Ospedale Vito Fazzi - Ambulatorio Reparto Oculistica\, Piano 5\, P
 iazza Muratore Filippo\, Lecce\, 73100\, Italy
GEO:40.3318962;18.159447999999998
X-APPLE-STRUCTURED-LOCATION;VALUE=URI;X-ADDRESS=Piazza Muratore Filippo\, L
 ecce\, 73100\, Italy;X-APPLE-RADIUS=100;X-TITLE=Ospedale Vito Fazzi - Ambu
 latorio Reparto Oculistica\, Piano 5:geo:40.3318962,18.159447999999998
END:VEVENT
BEGIN:VTIMEZONE
TZID:Europe/Amsterdam
X-LIC-LOCATION:Europe/Amsterdam
BEGIN:STANDARD
DTSTART:20171029T020000
TZOFFSETFROM:+0200
TZOFFSETTO:+0100
TZNAME:CET
END:STANDARD
END:VTIMEZONE
END:VCALENDAR