BEGIN:VCALENDAR
VERSION:2.0
PRODID:-//wp-events-plugin.com//7.2.3.1//EN
TZID:Europe/Amsterdam
X-WR-TIMEZONE:Europe/Amsterdam
BEGIN:VEVENT
UID:1957@worldglaucomaweek.org
DTSTART;TZID=Europe/Amsterdam:20180314T090000
DTEND;TZID=Europe/Amsterdam:20180314T130000
DTSTAMP:20180312T091249Z
URL:https://www.worldglaucomaweek.org/activity/screening-event-67/
SUMMARY:Screening Event
DESCRIPTION:Organized by UOS di Oculistica del Presidio Sanitario di Napoli
  Est e Società Italiana del Glaucoma
CATEGORIES:Screening event
LOCATION:Servizio Perimetria e Glaucoma\, Presidio Sanitario di Napoli Est 
 (ASL NA1 Centro)\, Via Pasquale Ciccarelli\, 1\, Napoli\, 80147\, Italy
GEO:40.8428495;14.317662599999949
X-APPLE-STRUCTURED-LOCATION;VALUE=URI;X-ADDRESS=Via Pasquale Ciccarelli\, 1
 \, Napoli\, 80147\, Italy;X-APPLE-RADIUS=100;X-TITLE=Servizio Perimetria e
  Glaucoma\, Presidio Sanitario di Napoli Est (ASL NA1 Centro):geo:40.84284
 95,14.317662599999949
END:VEVENT
BEGIN:VTIMEZONE
TZID:Europe/Amsterdam
X-LIC-LOCATION:Europe/Amsterdam
BEGIN:STANDARD
DTSTART:20171029T020000
TZOFFSETFROM:+0200
TZOFFSETTO:+0100
TZNAME:CET
END:STANDARD
END:VTIMEZONE
END:VCALENDAR