BEGIN:VCALENDAR
VERSION:2.0
PRODID:-//wp-events-plugin.com//7.2.3.1//EN
TZID:Europe/Amsterdam
X-WR-TIMEZONE:Europe/Amsterdam
BEGIN:VEVENT
UID:1954@worldglaucomaweek.org
DTSTART;TZID=Europe/Amsterdam;VALUE=DATE:20180316
DTEND;TZID=Europe/Amsterdam;VALUE=DATE:20180317
DTSTAMP:20180312T090402Z
URL:https://www.worldglaucomaweek.org/activity/screening-event-64/
SUMMARY:Screening Event
DESCRIPTION:Organized by Azienda Ospedaliero-Universitaria Senese (Chairman
 : Prof. G. M. Tosi)\, Policlinico Santa Maria delle Scotte Siena e Societ
 à Italiana del Glaucoma\n\n&nbsp\;
CATEGORIES:Screening event
LOCATION:Policlinico Santa Maria delle Scotte - Lotto 1\, Piano 7\, Stanze 
 10-12\, Viale Mario Bracci 16\, Siena\, 53100\, Italy
GEO:43.3415363;11.333039800000051
X-APPLE-STRUCTURED-LOCATION;VALUE=URI;X-ADDRESS=Viale Mario Bracci 16\, Sie
 na\, 53100\, Italy;X-APPLE-RADIUS=100;X-TITLE=Policlinico Santa Maria dell
 e Scotte - Lotto 1\, Piano 7\, Stanze 10-12:geo:43.3415363,11.333039800000
 051
END:VEVENT
BEGIN:VTIMEZONE
TZID:Europe/Amsterdam
X-LIC-LOCATION:Europe/Amsterdam
BEGIN:STANDARD
DTSTART:20171029T020000
TZOFFSETFROM:+0200
TZOFFSETTO:+0100
TZNAME:CET
END:STANDARD
END:VTIMEZONE
END:VCALENDAR