BEGIN:VCALENDAR
VERSION:2.0
PRODID:-//wp-events-plugin.com//7.2.3.1//EN
TZID:Europe/Amsterdam
X-WR-TIMEZONE:Europe/Amsterdam
BEGIN:VEVENT
UID:1527@worldglaucomaweek.org
DTSTART;TZID=Europe/Amsterdam:20180312T080000
DTEND;TZID=Europe/Amsterdam:20180316T170000
DTSTAMP:20180224T184723Z
URL:https://www.worldglaucomaweek.org/activity/screening-event-53/
SUMMARY:Screening Event
DESCRIPTION:The Glaucoma Society of Kenya will hold various screening event
 s accrues the country from March 12th to  16th 2018.\n\nThe Activities wi
 ll include participation from 15 different Eye Units across the country.
ATTACH;FMTTYPE=image/jpeg:https://www.worldglaucomaweek.org/wp-content/upl
 oads/2018/01/Poster-Nairobi.jpg
CATEGORIES:Screening event
LOCATION:Nairobi\, Kenya\, 19785\, Nairobi\, Nairobi\, 00100\, Nairobi\, Ke
 nya
GEO:-1.2920659;36.82194619999996
X-APPLE-STRUCTURED-LOCATION;VALUE=URI;X-ADDRESS=19785\, Nairobi\, Nairobi\,
  00100\, Nairobi\, Kenya;X-APPLE-RADIUS=100;X-TITLE=Nairobi\, Kenya:geo:-1
 .2920659,36.82194619999996
END:VEVENT
BEGIN:VTIMEZONE
TZID:Europe/Amsterdam
X-LIC-LOCATION:Europe/Amsterdam
BEGIN:STANDARD
DTSTART:20171029T020000
TZOFFSETFROM:+0200
TZOFFSETTO:+0100
TZNAME:CET
END:STANDARD
END:VTIMEZONE
END:VCALENDAR