BEGIN:VCALENDAR
VERSION:2.0
PRODID:-//wp-events-plugin.com//7.2.3.1//EN
TZID:Europe/Amsterdam
X-WR-TIMEZONE:Europe/Amsterdam
BEGIN:VEVENT
UID:1225@worldglaucomaweek.org
DTSTART;TZID=Europe/Amsterdam;VALUE=DATE:20170314
DTEND;TZID=Europe/Amsterdam;VALUE=DATE:20170318
DTSTAMP:20170307T185421Z
URL:https://www.worldglaucomaweek.org/activity/screening-event-46/
SUMMARY:Screening Event
DESCRIPTION:
CATEGORIES:Screening event
LOCATION:Hospital de Olhos Limongi\, Rua 7-A\, 141\, Setor Aeroporto\, Goi
 ânia\, Goiás\, 74075230\, Aeroporto\, Brazil
GEO:-16.6645974;-49.270269299999995
X-APPLE-STRUCTURED-LOCATION;VALUE=URI;X-ADDRESS=Rua 7-A\, 141\, Setor Aerop
 orto\, Goiânia\, Goiás\, 74075230\, Aeroporto\, Brazil;X-APPLE-RADIUS=10
 0;X-TITLE=Hospital de Olhos Limongi:geo:-16.6645974,-49.270269299999995
END:VEVENT
BEGIN:VTIMEZONE
TZID:Europe/Amsterdam
X-LIC-LOCATION:Europe/Amsterdam
BEGIN:STANDARD
DTSTART:20161030T020000
TZOFFSETFROM:+0200
TZOFFSETTO:+0100
TZNAME:CET
END:STANDARD
END:VTIMEZONE
END:VCALENDAR