BEGIN:VCALENDAR
VERSION:2.0
PRODID:-//wp-events-plugin.com//7.2.3.1//EN
TZID:Europe/Amsterdam
X-WR-TIMEZONE:Europe/Amsterdam
BEGIN:VEVENT
UID:1798@worldglaucomaweek.org
DTSTART;TZID=Europe/Amsterdam:20180312T080000
DTEND;TZID=Europe/Amsterdam:20180316T170000
DTSTAMP:20180303T164549Z
URL:https://www.worldglaucomaweek.org/activity/screening-event-1ra-feria-d
 e-salud-diagnosticando-el-glaucoma/
SUMMARY:Screening event\, 1ra Feria de Salud.  Diagnosticando el Glaucoma
DESCRIPTION:&nbsp\;\n\n&nbsp\;
CATEGORIES:Screening event
LOCATION:Oftalmo Advanced Clinic\, Avenida Brostella\, Panamá\, Panamaá\,
  Panama
GEO:9.006293399999999;-79.5390698
X-APPLE-STRUCTURED-LOCATION;VALUE=URI;X-ADDRESS=Avenida Brostella\, Panamá
 \, Panamaá\, Panama;X-APPLE-RADIUS=100;X-TITLE=Oftalmo Advanced Clinic:ge
 o:9.006293399999999,-79.5390698
END:VEVENT
BEGIN:VTIMEZONE
TZID:Europe/Amsterdam
X-LIC-LOCATION:Europe/Amsterdam
BEGIN:STANDARD
DTSTART:20171029T020000
TZOFFSETFROM:+0200
TZOFFSETTO:+0100
TZNAME:CET
END:STANDARD
END:VTIMEZONE
END:VCALENDAR