BEGIN:VCALENDAR
VERSION:2.0
PRODID:-//wp-events-plugin.com//7.2.3.1//EN
TZID:Europe/Amsterdam
X-WR-TIMEZONE:Europe/Amsterdam
BEGIN:VEVENT
UID:19745@worldglaucomaweek.org
DTSTART;TZID=Asia/Colombo:20250308T080000
DTEND;TZID=Asia/Colombo:20250308T140000
DTSTAMP:20250318T102717Z
URL:https://www.worldglaucomaweek.org/activity/screening-event-148/
SUMMARY:Screening Event
DESCRIPTION:Although\, the best approach\, to detect glaucoma is case detec
 tion\,  in routine clinics\, the Population-based mass screening clinics\,
   generate enormous publicity\,   and take the message of glaucoma\, to th
 eir society.  We conducted several mass screening clinics in rural Sri Lan
 ka\,  with a considerable number of participants. 
CATEGORIES:Screening event
LOCATION:Puttalam Hospital\, Puttalam\, Puttalam\, 61000\, Sri Lanka
X-APPLE-STRUCTURED-LOCATION;VALUE=URI;X-ADDRESS=Puttalam\, Puttalam\, 61000
 \, Sri Lanka;X-APPLE-RADIUS=100;X-TITLE=Puttalam Hospital:geo:0,0
END:VEVENT
BEGIN:VTIMEZONE
TZID:Asia/Colombo
X-LIC-LOCATION:Asia/Colombo
BEGIN:STANDARD
DTSTART:20240308T080000
TZOFFSETFROM:+0530
TZOFFSETTO:+0530
TZNAME:+0530
END:STANDARD
END:VTIMEZONE
END:VCALENDAR