BEGIN:VCALENDAR
VERSION:2.0
PRODID:-//wp-events-plugin.com//7.2.3.1//EN
TZID:Europe/Amsterdam
X-WR-TIMEZONE:Europe/Amsterdam
BEGIN:VEVENT
UID:4391@worldglaucomaweek.org
DTSTART;TZID=America/Mexico_City:20220306T090000
DTEND;TZID=America/Mexico_City:20220306T140000
DTSTAMP:20220208T220710Z
URL:https://www.worldglaucomaweek.org/activity/screening-event-142/
SUMMARY:Screening Event
DESCRIPTION:Jornada de Detección de Glaucoma\nSe atenderá a la población
  en general de forma gratuita con exploración oftalmológica\, toma de pr
 esión intraocular y estudios de campimetría.
CATEGORIES:Screening event
LOCATION:Oftalmovisión\, Doria Poniente 316\, Tulancingo\, Hidalgo\, 43600
 \, Mexico
GEO:20.079647;-98.374122
X-APPLE-STRUCTURED-LOCATION;VALUE=URI;X-ADDRESS=Doria Poniente 316\, Tulanc
 ingo\, Hidalgo\, 43600\, Mexico;X-APPLE-RADIUS=100;X-TITLE=Oftalmovisión:
 geo:20.079647,-98.374122
END:VEVENT
BEGIN:VTIMEZONE
TZID:America/Mexico_City
X-LIC-LOCATION:America/Mexico_City
BEGIN:STANDARD
DTSTART:20211031T010000
TZOFFSETFROM:-0500
TZOFFSETTO:-0600
TZNAME:CST
END:STANDARD
END:VTIMEZONE
END:VCALENDAR