BEGIN:VCALENDAR
VERSION:2.0
PRODID:-//wp-events-plugin.com//7.2.3.1//EN
TZID:Europe/Amsterdam
X-WR-TIMEZONE:Europe/Amsterdam
BEGIN:VEVENT
UID:2754@worldglaucomaweek.org
DTSTART;TZID=Europe/Amsterdam:20190315T090000
DTEND;TZID=Europe/Amsterdam:20190315T133000
DTSTAMP:20190308T093949Z
URL:https://www.worldglaucomaweek.org/activity/screening-event-112/
SUMMARY:Screening Event
DESCRIPTION:
CATEGORIES:Screening event
LOCATION:Azienda Ospedaliera Policlinico Consorziale Bari - Centro Glaucoma
 \, Piazza Giulio Cesare 11\, Bari\, 70124\, Italy
GEO:41.1120624;16.86184990000004
X-APPLE-STRUCTURED-LOCATION;VALUE=URI;X-ADDRESS=Piazza Giulio Cesare 11\, B
 ari\, 70124\, Italy;X-APPLE-RADIUS=100;X-TITLE=Azienda Ospedaliera Policli
 nico Consorziale Bari - Centro Glaucoma:geo:41.1120624,16.86184990000004
END:VEVENT
BEGIN:VTIMEZONE
TZID:Europe/Amsterdam
X-LIC-LOCATION:Europe/Amsterdam
BEGIN:STANDARD
DTSTART:20181028T020000
TZOFFSETFROM:+0200
TZOFFSETTO:+0100
TZNAME:CET
END:STANDARD
END:VTIMEZONE
END:VCALENDAR