BEGIN:VCALENDAR
VERSION:2.0
PRODID:-//wp-events-plugin.com//7.2.3.1//EN
TZID:Europe/Amsterdam
X-WR-TIMEZONE:Europe/Amsterdam
BEGIN:VEVENT
UID:2751@worldglaucomaweek.org
DTSTART;TZID=Europe/Amsterdam:20190311T140000
DTEND;TZID=Europe/Amsterdam:20190311T180000
DTSTAMP:20190308T092438Z
URL:https://www.worldglaucomaweek.org/activity/screening-event-110/
SUMMARY:Screening Event
DESCRIPTION:Lotto 1\, Piano 7\, Stanza 12\n\n0577585171
CATEGORIES:Screening event
LOCATION:Policlinico Santa Maria delle Scotte\, Policlinico Santa Maria del
 le Scotte\, Siena\, 53100\, Italy
GEO:43.317136;11.328301900000042
X-APPLE-STRUCTURED-LOCATION;VALUE=URI;X-ADDRESS=Policlinico Santa Maria del
 le Scotte\, Siena\, 53100\, Italy;X-APPLE-RADIUS=100;X-TITLE=Policlinico S
 anta Maria delle Scotte:geo:43.317136,11.328301900000042
END:VEVENT
BEGIN:VTIMEZONE
TZID:Europe/Amsterdam
X-LIC-LOCATION:Europe/Amsterdam
BEGIN:STANDARD
DTSTART:20181028T020000
TZOFFSETFROM:+0200
TZOFFSETTO:+0100
TZNAME:CET
END:STANDARD
END:VTIMEZONE
END:VCALENDAR